BEGIN:VCALENDAR
VERSION:2.0
PRODID:jazz-concerts.com
METHOD:PUBLISH
SEQUENCE:1776648377
BEGIN:VEVENT
UID:jazz-concerts.com-1-41929
DTSTAMP:20260420T032617
DTSTART:20260812T193000
DTEND:20260812T213000
SUMMARY:Jazz im Unterdorf
LOCATION:Weggis Vitznau Rigi Tourism Seestrasse 5\, 6353 Weggis\, Switzerland
DESCRIPTION:tickets: https://jazz-concerts.com/en/event/41929\n\nJazz im Unterdorf\n\n
END:VEVENT
END:VCALENDAR
