BEGIN:VCALENDAR
VERSION:2.0
PRODID:jazz-concerts.com
METHOD:PUBLISH
SEQUENCE:1776642610
BEGIN:VEVENT
UID:jazz-concerts.com-1-41935
DTSTAMP:20260420T015010
DTSTART:20261129T170000
DTEND:20261129T190000
SUMMARY:Samichlaus Umzug durch die Bahnhofstrasse
LOCATION:Bahnhofstrasse Zürich\, Switzerland
DESCRIPTION:tickets: https://jazz-concerts.com/en/event/41935\n\nSamichlaus Umzug durch die Bahnhofstrasse\n\n
END:VEVENT
END:VCALENDAR
