BEGIN:VCALENDAR
VERSION:2.0
PRODID:jazz-concerts.com
METHOD:PUBLISH
SEQUENCE:1776612749
BEGIN:VEVENT
UID:jazz-concerts.com-1-42005
DTSTAMP:20260419T173229
DTSTART:20260425T203000
DTEND:20260425T223000
SUMMARY:Grant Stewart Quartet
LOCATION:Birdland Gärtnerstraße 122\, 20253 Hamburg\, Germany
DESCRIPTION:tickets: https://jazz-concerts.com/en/event/42005\n\nGrant Stewart Quartet\n\n
END:VEVENT
END:VCALENDAR
