BEGIN:VCALENDAR
VERSION:2.0
PRODID:jazz-concerts.com
METHOD:PUBLISH
SEQUENCE:1776635619
BEGIN:VEVENT
UID:jazz-concerts.com-1-42088
DTSTAMP:20260419T235339
DTSTART:20260624T203000
DTEND:20260624T223000
SUMMARY:Louisiana Funky Butts Brass Band
LOCATION:Panzerhalle Tübingen Wennfelder Garten 2\, 72072 Tübingen\, Germany
DESCRIPTION:tickets: https://jazz-concerts.com/en/event/42088\n\nLouisiana Funky Butts Brass Band\n\n
END:VEVENT
END:VCALENDAR
