BEGIN:VCALENDAR
VERSION:2.0
PRODID:jazz-concerts.com
METHOD:PUBLISH
SEQUENCE:1776612789
BEGIN:VEVENT
UID:jazz-concerts.com-1-42272
DTSTAMP:20260419T173309
DTSTART:20260527T200000
DTEND:20260527T220000
SUMMARY:The World Famous Glenn Miller Orchestra directed by Uli Plettendorff
LOCATION:Kurtheater Bad Homburg Louisenstraße 58\, 61348 Bad Homburg vor der Höhe\, Germany
DESCRIPTION:tickets: https://jazz-concerts.com/en/event/42272\n\nThe World Famous Glenn Miller Orchestra directed by Uli Plettendorff\nSwing Forever\n«Swing Forever» präsentiert Glenn Millers Big-Band-Klassiker mit Vokalgruppe «Moonlight Serenaders» im Kurtheater Bad Homburg\, 27. Mai.\n
END:VEVENT
END:VCALENDAR
