BEGIN:VCALENDAR
VERSION:2.0
PRODID:jazz-concerts.com
METHOD:PUBLISH
SEQUENCE:1776642621
BEGIN:VEVENT
UID:jazz-concerts.com-1-42275
DTSTAMP:20260420T015021
DTSTART:20260813T141500
DTEND:20260813T161500
SUMMARY:Dixie Törn auf der HOHENTWIEL
LOCATION: Bregenz\, Austria
DESCRIPTION:tickets: https://jazz-concerts.com/en/event/42275\n\nDixie Törn auf der HOHENTWIEL\n14:15 Lindau ... 15:30 Lindau\n\n
END:VEVENT
END:VCALENDAR
