BEGIN:VCALENDAR
VERSION:2.0
PRODID:jazz-concerts.com
METHOD:PUBLISH
SEQUENCE:1776637105
BEGIN:VEVENT
UID:jazz-concerts.com-1-42298
DTSTAMP:20260420T001825
DTSTART:20260510T170000
DTEND:20260510T190000
SUMMARY:Mit 3 Orgeln und 2 Saxophonen um die Welt
LOCATION:St.-Johannis-Kirche Dannenberg\, Germany
DESCRIPTION:tickets: https://jazz-concerts.com/en/event/42298\n\nMit 3 Orgeln und 2 Saxophonen um die Welt\n\n
END:VEVENT
END:VCALENDAR
