BEGIN:VCALENDAR
VERSION:2.0
PRODID:jazz-concerts.com
METHOD:PUBLISH
SEQUENCE:1776624127
BEGIN:VEVENT
UID:jazz-concerts.com-1-42300
DTSTAMP:20260419T204207
DTSTART:20260522T200000
DTEND:20260522T220000
SUMMARY:Timo Lassy Trio
LOCATION:Roter Saal Schloßplatz 1\, 38100 Braunschweig\, Germany
DESCRIPTION:tickets: https://jazz-concerts.com/en/event/42300\n\nTimo Lassy Trio\n\n
END:VEVENT
END:VCALENDAR
