BEGIN:VCALENDAR
VERSION:2.0
PRODID:jazz-concerts.com
METHOD:PUBLISH
SEQUENCE:1776618508
BEGIN:VEVENT
UID:jazz-concerts.com-1-42332
DTSTAMP:20260419T190828
DTSTART:20260720T200000
DTEND:20260720T220000
SUMMARY:Götz Alsmann
LOCATION:Die Wühlmäuse Pommernallee 2-4\, 14052 Berlin\, Germany
DESCRIPTION:tickets: https://jazz-concerts.com/en/event/42332\n\nGötz Alsmann\n\n
END:VEVENT
END:VCALENDAR
