BEGIN:VCALENDAR
VERSION:2.0
PRODID:jazz-concerts.com
METHOD:PUBLISH
SEQUENCE:1776689142
BEGIN:VEVENT
UID:jazz-concerts.com-1-42335
DTSTAMP:20260420T144542
DTSTART:20260924T200000
DTEND:20260924T220000
SUMMARY:Götz Alsmann
LOCATION:Kulturraffinerie K714 Rheinparkallee\, 40789 Monheim am Rhein\, Germany
DESCRIPTION:tickets: https://jazz-concerts.com/en/event/42335\n\nGötz Alsmann\n\n
END:VEVENT
END:VCALENDAR
