BEGIN:VCALENDAR
VERSION:2.0
PRODID:jazz-concerts.com
METHOD:PUBLISH
SEQUENCE:1776640625
BEGIN:VEVENT
UID:jazz-concerts.com-1-42338
DTSTAMP:20260420T011705
DTSTART:20261023T200000
DTEND:20261023T220000
SUMMARY:Götz Alsmann
LOCATION:Konzerthaus Liebfrauen Wernigerode Liebfrauenkirchhof 5\, 38855 Wernigerode\, Germany
DESCRIPTION:tickets: https://jazz-concerts.com/en/event/42338\n\nGötz Alsmann\n\n
END:VEVENT
END:VCALENDAR
