BEGIN:VCALENDAR
VERSION:2.0
PRODID:jazz-concerts.com
METHOD:PUBLISH
SEQUENCE:1776612787
BEGIN:VEVENT
UID:jazz-concerts.com-1-42344
DTSTAMP:20260419T173307
DTSTART:20260709T200000
DTEND:20260709T220000
SUMMARY:Götz Alsmann
LOCATION:Freilichtbühne Burg Wilhelmstein An Wilhelmstein\, 52146 Würselen\, Germany
DESCRIPTION:tickets: https://jazz-concerts.com/en/event/42344\n\nGötz Alsmann\n\n
END:VEVENT
END:VCALENDAR
