BEGIN:VCALENDAR
VERSION:2.0
PRODID:jazz-concerts.com
METHOD:PUBLISH
SEQUENCE:1776640629
BEGIN:VEVENT
UID:jazz-concerts.com-1-42346
DTSTAMP:20260420T011709
DTSTART:20271008T200000
DTEND:20271008T220000
SUMMARY:Götz Alsmann
LOCATION:Sauerland-Theater Feauxweg 9\, 59821 Arnsberg\, Germany
DESCRIPTION:tickets: https://jazz-concerts.com/en/event/42346\n\nGötz Alsmann\n\n
END:VEVENT
END:VCALENDAR
