BEGIN:VCALENDAR
VERSION:2.0
PRODID:jazz-concerts.com
METHOD:PUBLISH
SEQUENCE:1776624877
BEGIN:VEVENT
UID:jazz-concerts.com-1-42360
DTSTAMP:20260419T205437
DTSTART:20260531T200000
DTEND:20260531T220000
SUMMARY:The World Famous Glenn Miller Orchestra directed by Uli Plettendorff
LOCATION:Haus des Gastes Hauptstraße 94\, 77830 Bühlertal\, Germany
DESCRIPTION:tickets: https://jazz-concerts.com/en/event/42360\n\nThe World Famous Glenn Miller Orchestra directed by Uli Plettendorff\nSwing Forever\nGLENN MILLER ORCHESTRA DIRECTED BY ULI PLETTENDORFF –\nTHE LICENSED ORCHESTRA FOR EUROPE\nWITH PERMISSION AND AUTHORITY OF GLENN MILLER PRODUCTIONS\, INC.\, NEW YORK\, USA.\n
END:VEVENT
END:VCALENDAR
