BEGIN:VCALENDAR
VERSION:2.0
PRODID:jazz-concerts.com
METHOD:PUBLISH
SEQUENCE:1776605879
BEGIN:VEVENT
UID:jazz-concerts.com-1-42456
DTSTAMP:20260419T153759
DTSTART:20260514T210000
DTEND:20260514T230000
SUMMARY:Wolfgang Haffner Trio
LOCATION:Schloss Elmau In Elmau 2\, 82493 Krün\, Germany
DESCRIPTION:tickets: https://jazz-concerts.com/en/event/42456\n\nWolfgang Haffner Trio\n\n
END:VEVENT
END:VCALENDAR
