BEGIN:VCALENDAR
VERSION:2.0
PRODID:jazz-concerts.com
METHOD:PUBLISH
SEQUENCE:1776624844
BEGIN:VEVENT
UID:jazz-concerts.com-1-42502
DTSTAMP:20260419T205404
DTSTART:20260528T200000
DTEND:20260528T220000
SUMMARY:Pepe Lienhard Big Band
LOCATION:Theater 11 Thurgauerstrasse 7\, 8050 Zürich\, Switzerland
DESCRIPTION:tickets: https://jazz-concerts.com/en/event/42502\n\nPepe Lienhard Big Band\n\n
END:VEVENT
END:VCALENDAR
