BEGIN:VCALENDAR
VERSION:2.0
PRODID:jazz-concerts.com
METHOD:PUBLISH
SEQUENCE:1776612788
BEGIN:VEVENT
UID:jazz-concerts.com-1-42503
DTSTAMP:20260419T173308
DTSTART:20260529T200000
DTEND:20260529T220000
SUMMARY:Pepe Lienhard Big Band
LOCATION:Stadttheater Schaffhausen Herrenacker 23\, 8200 Schaffhausen\, Switzerland
DESCRIPTION:tickets: https://jazz-concerts.com/en/event/42503\n\nPepe Lienhard Big Band\n\n
END:VEVENT
END:VCALENDAR
