BEGIN:VCALENDAR
VERSION:2.0
PRODID:jazz-concerts.com
METHOD:PUBLISH
SEQUENCE:1776635566
BEGIN:VEVENT
UID:jazz-concerts.com-1-42504
DTSTAMP:20260419T235246
DTSTART:20260530T200000
DTEND:20260530T220000
SUMMARY:Pepe Lienhard Big Band
LOCATION:Tonhalle St. Gallen Museumstrasse 25\, 9000 St. Gallen\, Switzerland
DESCRIPTION:tickets: https://jazz-concerts.com/en/event/42504\n\nPepe Lienhard Big Band\n\n
END:VEVENT
END:VCALENDAR
