BEGIN:VCALENDAR
VERSION:2.0
PRODID:jazz-concerts.com
METHOD:PUBLISH
SEQUENCE:1776634820
BEGIN:VEVENT
UID:jazz-concerts.com-1-42506
DTSTAMP:20260419T234020
DTSTART:20260602T200000
DTEND:20260602T220000
SUMMARY:Pepe Lienhard Big Band
LOCATION:Lorzensaal Cham Dorfplatz 3\, 6330 Cham\, Switzerland
DESCRIPTION:tickets: https://jazz-concerts.com/en/event/42506\n\nPepe Lienhard Big Band\n\n
END:VEVENT
END:VCALENDAR
