BEGIN:VCALENDAR
VERSION:2.0
PRODID:jazz-concerts.com
METHOD:PUBLISH
SEQUENCE:1776624842
BEGIN:VEVENT
UID:jazz-concerts.com-1-42548
DTSTAMP:20260419T205402
DTSTART:20261123T200000
DTEND:20261123T220000
SUMMARY:Max Raabe & Palast Orchester
LOCATION:Isar Philharmonic Hans-Preißinger-Straße 8\, 81379 München\, Germany
DESCRIPTION:tickets: https://jazz-concerts.com/en/event/42548\n\nMax Raabe & Palast Orchester\n\n
END:VEVENT
END:VCALENDAR
