BEGIN:VCALENDAR
VERSION:2.0
PRODID:jazz-concerts.com
METHOD:PUBLISH
SEQUENCE:1776624850
BEGIN:VEVENT
UID:jazz-concerts.com-1-42549
DTSTAMP:20260419T205410
DTSTART:20261124T200000
DTEND:20261124T220000
SUMMARY:Max Raabe & Palast Orchester
LOCATION:Isar Philharmonic Hans-Preißinger-Straße 8\, 81379 München\, Germany
DESCRIPTION:tickets: https://jazz-concerts.com/en/event/42549\n\nMax Raabe & Palast Orchester\n\n
END:VEVENT
END:VCALENDAR
