BEGIN:VCALENDAR
VERSION:2.0
PRODID:jazz-concerts.com
METHOD:PUBLISH
SEQUENCE:1776635621
BEGIN:VEVENT
UID:jazz-concerts.com-1-42586
DTSTAMP:20260419T235341
DTSTART:20270305T200000
DTEND:20270305T220000
SUMMARY:Max Raabe & Palast Orchester
LOCATION:Congress Centrum Pleichertorstraße 5\, 97070 Würzburg\, Germany
DESCRIPTION:tickets: https://jazz-concerts.com/en/event/42586\n\nMax Raabe & Palast Orchester\n\n
END:VEVENT
END:VCALENDAR
