BEGIN:VCALENDAR
VERSION:2.0
PRODID:jazz-concerts.com
METHOD:PUBLISH
SEQUENCE:1776635621
BEGIN:VEVENT
UID:jazz-concerts.com-1-42590
DTSTAMP:20260419T235341
DTSTART:20270314T200000
DTEND:20270314T220000
SUMMARY:Max Raabe & Palast Orchester
LOCATION:Volkswagen Halle Europaplatz 1\, 38122 Braunschweig\, Germany
DESCRIPTION:tickets: https://jazz-concerts.com/en/event/42590\n\nMax Raabe & Palast Orchester\n\n
END:VEVENT
END:VCALENDAR
