BEGIN:VCALENDAR
VERSION:2.0
PRODID:jazz-concerts.com
METHOD:PUBLISH
SEQUENCE:1776656720
BEGIN:VEVENT
UID:jazz-concerts.com-1-42592
DTSTAMP:20260420T054520
DTSTART:20270410T200000
DTEND:20270410T220000
SUMMARY:Max Raabe & Palast Orchester
LOCATION:Meeting and convention center Siegerlandhalle Koblenzer Straße 151\, 57072 Siegen\, Germany
DESCRIPTION:tickets: https://jazz-concerts.com/en/event/42592\n\nMax Raabe & Palast Orchester\n\n
END:VEVENT
END:VCALENDAR
