BEGIN:VCALENDAR
VERSION:2.0
PRODID:jazz-concerts.com
METHOD:PUBLISH
SEQUENCE:1776635576
BEGIN:VEVENT
UID:jazz-concerts.com-1-42623
DTSTAMP:20260419T235256
DTSTART:20260723T210000
DTEND:20260723T230000
SUMMARY:Vincen García
LOCATION:Jazz in Marciac Place du Chevalier d'Antras 8\, 32230 Marciac\, France
DESCRIPTION:tickets: https://jazz-concerts.com/en/event/42623\n\nVincen García\n\n
END:VEVENT
END:VCALENDAR
