BEGIN:VCALENDAR
VERSION:2.0
PRODID:jazz-concerts.com
METHOD:PUBLISH
SEQUENCE:1776624821
BEGIN:VEVENT
UID:jazz-concerts.com-1-42628
DTSTAMP:20260419T205341
DTSTART:20260725T230000
DTEND:20260726T010000
SUMMARY:Selah Sue & The Gallands
LOCATION:Jazz in Marciac Place du Chevalier d'Antras 8\, 32230 Marciac\, France
DESCRIPTION:tickets: https://jazz-concerts.com/en/event/42628\n\nSelah Sue & The Gallands\n\n
END:VEVENT
END:VCALENDAR
