BEGIN:VCALENDAR
VERSION:2.0
PRODID:jazz-concerts.com
METHOD:PUBLISH
SEQUENCE:1776612790
BEGIN:VEVENT
UID:jazz-concerts.com-1-42724
DTSTAMP:20260419T173310
DTSTART:20260611T193000
DTEND:20260611T213000
SUMMARY:Jazzstories – Frauen\, Welten\, Wandel
LOCATION:Ballhaus Wedding Wriezener Straße 6\, 13359 Berlin\, Germany
DESCRIPTION:tickets: https://jazz-concerts.com/en/event/42724\n\nJazzstories – Frauen\, Welten\, Wandel\nEin verführerischer Abend zwischen Jazz\, Chanson und Burlesque\n\n
END:VEVENT
END:VCALENDAR
