BEGIN:VCALENDAR
VERSION:2.0
PRODID:jazz-concerts.com
METHOD:PUBLISH
SEQUENCE:1776622645
BEGIN:VEVENT
UID:jazz-concerts.com-1-42764
DTSTAMP:20260419T201725
DTSTART:20261030T200000
DTEND:20261030T220000
SUMMARY:Wolfgang Lackerschmid Quartet
LOCATION:Theater Gütersloh Hans-Werner-Henze-Platz 1\, 33330 Gütersloh\, Germany
DESCRIPTION:tickets: https://jazz-concerts.com/en/event/42764\n\nWolfgang Lackerschmid Quartet\n70th birthday anniversary tour\n\n
END:VEVENT
END:VCALENDAR
