BEGIN:VCALENDAR
VERSION:2.0
PRODID:jazz-concerts.com
METHOD:PUBLISH
SEQUENCE:1776624844
BEGIN:VEVENT
UID:jazz-concerts.com-1-42779
DTSTAMP:20260419T205404
DTSTART:20260531T103000
DTEND:20260531T123000
SUMMARY:Lake Constance Dixielander
LOCATION:Hafenhalle Hafenstraße 10\, 78462 Konstanz\, Germany
DESCRIPTION:tickets: https://jazz-concerts.com/en/event/42779\n\nLake Constance Dixielander\n\n
END:VEVENT
END:VCALENDAR
