BEGIN:VCALENDAR
VERSION:2.0
PRODID:jazz-concerts.com
METHOD:PUBLISH
SEQUENCE:1776654495
BEGIN:VEVENT
UID:jazz-concerts.com-1-42825
DTSTAMP:20260420T050815
DTSTART:20260507T203000
DTEND:20260507T223000
SUMMARY:Sheldon Suter Solo
LOCATION:The Bird's Eye Jazz Club Kohlenberg 20\, 4051 Basel\, Switzerland
DESCRIPTION:tickets: https://jazz-concerts.com/en/event/42825\n\nSheldon Suter Solo\n\n
END:VEVENT
END:VCALENDAR
