BEGIN:VCALENDAR
VERSION:2.0
PRODID:jazz-concerts.com
METHOD:PUBLISH
SEQUENCE:1776704465
BEGIN:VEVENT
UID:jazz-concerts.com-1-42830
DTSTAMP:20260420T190105
DTSTART:20260513T203000
DTEND:20260513T223000
SUMMARY:Focusyear Band 26
LOCATION:The Bird's Eye Jazz Club Kohlenberg 20\, 4051 Basel\, Switzerland
DESCRIPTION:tickets: https://jazz-concerts.com/en/event/42830\n\nFocusyear Band 26\n\n
END:VEVENT
END:VCALENDAR
