BEGIN:VCALENDAR
VERSION:2.0
PRODID:jazz-concerts.com
METHOD:PUBLISH
SEQUENCE:1776605950
BEGIN:VEVENT
UID:jazz-concerts.com-1-42883
DTSTAMP:20260419T153910
DTSTART:20260502T140000
DTEND:20260502T160000
SUMMARY:Joshua Redman Quartet
LOCATION:Cheltenham Town Hall Imperial Square\, GL50 1QA Cheltenham\, United Kingdom
DESCRIPTION:tickets: https://jazz-concerts.com/en/event/42883\n\nJoshua Redman Quartet\nJoshua Redman makes a much-anticipated return to the Festival following his critically acclaimed Blue Note album Words Fall Short. The American master of the saxophone will be joined by the album’s Quartet featuring Paul Cornish on piano\, Philip Norris on bass and Nazir Ebo on drums.\n
END:VEVENT
END:VCALENDAR
