BEGIN:VCALENDAR
VERSION:2.0
PRODID:jazz-concerts.com
METHOD:PUBLISH
SEQUENCE:1776605876
BEGIN:VEVENT
UID:jazz-concerts.com-1-42910
DTSTAMP:20260419T153756
DTSTART:20261016T193000
DTEND:20261016T213000
SUMMARY:frankopohl
LOCATION:Kulturladen Castle Almoshof Almoshofer Hauptstraße 49 - 53\, 90427 Nürnberg\, Germany
DESCRIPTION:tickets: https://jazz-concerts.com/en/event/42910\n\nfrankopohl\nSolopianoprogramm\n\n
END:VEVENT
END:VCALENDAR
