BEGIN:VCALENDAR
VERSION:2.0
PRODID:jazz-concerts.com
METHOD:PUBLISH
SEQUENCE:1776635603
BEGIN:VEVENT
UID:jazz-concerts.com-1-42950
DTSTAMP:20260419T235323
DTSTART:20260513T213000
DTEND:20260513T233000
SUMMARY:Makaya McCraven
LOCATION:Santeria Toscana 31 Viale Toscana 31\, 20136 Milano\, Italy
DESCRIPTION:tickets: https://jazz-concerts.com/en/event/42950\n\nMakaya McCraven\n\n
END:VEVENT
END:VCALENDAR
