BEGIN:VCALENDAR
VERSION:2.0
PRODID:jazz-concerts.com
METHOD:PUBLISH
SEQUENCE:1776612786
BEGIN:VEVENT
UID:jazz-concerts.com-1-42974
DTSTAMP:20260419T173306
DTSTART:20260808T133000
DTEND:20260808T153000
SUMMARY:30. SummerJazz Pinneberg
LOCATION:Pinneberg Dingstätte\, 25421 Pinneberg\, Germany
DESCRIPTION:tickets: https://jazz-concerts.com/en/event/42974\n\n30. SummerJazz Pinneberg\n\n
END:VEVENT
END:VCALENDAR
