BEGIN:VCALENDAR
VERSION:2.0
PRODID:jazz-concerts.com
METHOD:PUBLISH
SEQUENCE:1776605876
BEGIN:VEVENT
UID:jazz-concerts.com-1-42978
DTSTAMP:20260419T153756
DTSTART:20260419T163000
DTEND:20260419T183000
SUMMARY:Brandee Younger
LOCATION:Blue Note Tokyo 107-0062 Minato City\, Japan
DESCRIPTION:tickets: https://jazz-concerts.com/en/event/42978\n\nBrandee Younger\n\n
END:VEVENT
END:VCALENDAR
