BEGIN:VCALENDAR
VERSION:2.0
PRODID:jazz-concerts.com
METHOD:PUBLISH
SEQUENCE:1776605880
BEGIN:VEVENT
UID:jazz-concerts.com-1-42982
DTSTAMP:20260419T153800
DTSTART:20260422T180000
DTEND:20260422T200000
SUMMARY:Unlimited Miles
LOCATION:Blue Note Tokyo 107-0062 Minato City\, Japan
DESCRIPTION:tickets: https://jazz-concerts.com/en/event/42982\n\nUnlimited Miles\n\n
END:VEVENT
END:VCALENDAR
