BEGIN:VCALENDAR
VERSION:2.0
PRODID:jazz-concerts.com
METHOD:PUBLISH
SEQUENCE:1776605876
BEGIN:VEVENT
UID:jazz-concerts.com-1-42983
DTSTAMP:20260419T153756
DTSTART:20260422T203000
DTEND:20260422T223000
SUMMARY:Unlimited Miles
LOCATION:Blue Note Tokyo 107-0062 Minato City\, Japan
DESCRIPTION:tickets: https://jazz-concerts.com/en/event/42983\n\nUnlimited Miles\n\n
END:VEVENT
END:VCALENDAR
