BEGIN:VCALENDAR
VERSION:2.0
PRODID:jazz-concerts.com
METHOD:PUBLISH
SEQUENCE:1776605882
BEGIN:VEVENT
UID:jazz-concerts.com-1-42984
DTSTAMP:20260419T153802
DTSTART:20260423T180000
DTEND:20260423T200000
SUMMARY:Unlimited Miles
LOCATION:Blue Note Tokyo 107-0062 Minato City\, Japan
DESCRIPTION:tickets: https://jazz-concerts.com/en/event/42984\n\nUnlimited Miles\n\n
END:VEVENT
END:VCALENDAR
