BEGIN:VCALENDAR
VERSION:2.0
PRODID:jazz-concerts.com
METHOD:PUBLISH
SEQUENCE:1776605883
BEGIN:VEVENT
UID:jazz-concerts.com-1-42985
DTSTAMP:20260419T153803
DTSTART:20260423T203000
DTEND:20260423T223000
SUMMARY:Unlimited Miles
LOCATION:Blue Note Tokyo 107-0062 Minato City\, Japan
DESCRIPTION:tickets: https://jazz-concerts.com/en/event/42985\n\nUnlimited Miles\n\n
END:VEVENT
END:VCALENDAR
