BEGIN:VCALENDAR
VERSION:2.0
PRODID:jazz-concerts.com
METHOD:PUBLISH
SEQUENCE:1776605952
BEGIN:VEVENT
UID:jazz-concerts.com-1-42994
DTSTAMP:20260419T153912
DTSTART:20260426T163000
DTEND:20260426T183000
SUMMARY:Michel Camilo Trio
LOCATION:Blue Note Tokyo 107-0062 Minato City\, Japan
DESCRIPTION:tickets: https://jazz-concerts.com/en/event/42994\n\nMichel Camilo Trio\n\n
END:VEVENT
END:VCALENDAR
