BEGIN:VCALENDAR
VERSION:2.0
PRODID:jazz-concerts.com
METHOD:PUBLISH
SEQUENCE:1776618450
BEGIN:VEVENT
UID:jazz-concerts.com-1-43007
DTSTAMP:20260419T190730
DTSTART:20260506T193000
DTEND:20260506T213000
SUMMARY:The Hot Sardines
LOCATION:Blue Note Tokyo 107-0062 Minato City\, Japan
DESCRIPTION:tickets: https://jazz-concerts.com/en/event/43007\n\nThe Hot Sardines\n\n
END:VEVENT
END:VCALENDAR
