BEGIN:VCALENDAR
VERSION:2.0
PRODID:jazz-concerts.com
METHOD:PUBLISH
SEQUENCE:1776612790
BEGIN:VEVENT
UID:jazz-concerts.com-1-43048
DTSTAMP:20260419T173310
DTSTART:20260607T163000
DTEND:20260607T183000
SUMMARY:Chris Botti
LOCATION:Blue Note Tokyo 107-0062 Minato City\, Japan
DESCRIPTION:tickets: https://jazz-concerts.com/en/event/43048\n\nChris Botti\n\n
END:VEVENT
END:VCALENDAR
