BEGIN:VCALENDAR
VERSION:2.0
PRODID:jazz-concerts.com
METHOD:PUBLISH
SEQUENCE:1776624839
BEGIN:VEVENT
UID:jazz-concerts.com-1-43065
DTSTAMP:20260419T205359
DTSTART:20260618T180000
DTEND:20260618T200000
SUMMARY:Makaya McCraven
LOCATION:Blue Note Tokyo 107-0062 Minato City\, Japan
DESCRIPTION:tickets: https://jazz-concerts.com/en/event/43065\n\nMakaya McCraven\n\n
END:VEVENT
END:VCALENDAR
