BEGIN:VCALENDAR
VERSION:2.0
PRODID:jazz-concerts.com
METHOD:PUBLISH
SEQUENCE:1776683875
BEGIN:VEVENT
UID:jazz-concerts.com-1-43071
DTSTAMP:20260420T131755
DTSTART:20260621T163000
DTEND:20260621T183000
SUMMARY:Marcus Gilmore - Journey to the New
LOCATION:Blue Note Tokyo 107-0062 Minato City\, Japan
DESCRIPTION:tickets: https://jazz-concerts.com/en/event/43071\n\nMarcus Gilmore - Journey to the New\n\n
END:VEVENT
END:VCALENDAR
