BEGIN:VCALENDAR
VERSION:2.0
PRODID:jazz-concerts.com
METHOD:PUBLISH
SEQUENCE:1776635556
BEGIN:VEVENT
UID:jazz-concerts.com-1-43113
DTSTAMP:20260419T235236
DTSTART:20260518T193000
DTEND:20260518T213000
SUMMARY:Fergus McCreadie Trio
LOCATION:Brucknerhaus Linz Untere Donaulände 7\, 4010 Linz\, Austria
DESCRIPTION:tickets: https://jazz-concerts.com/en/event/43113\n\nFergus McCreadie Trio\n\n
END:VEVENT
END:VCALENDAR
