BEGIN:VCALENDAR
VERSION:2.0
PRODID:jazz-concerts.com
METHOD:PUBLISH
SEQUENCE:1776612774
BEGIN:VEVENT
UID:jazz-concerts.com-1-43130
DTSTAMP:20260419T173254
DTSTART:20260417T220000
DTEND:20260418T000000
SUMMARY:Vijay Iyer Quartet
LOCATION:Smoke Jazz & Supper Club Broadway 2751\, 10025 New York\, United States
DESCRIPTION:tickets: https://jazz-concerts.com/en/event/43130\n\nVijay Iyer Quartet\n\n
END:VEVENT
END:VCALENDAR
