BEGIN:VCALENDAR
VERSION:2.0
PRODID:jazz-concerts.com
METHOD:PUBLISH
SEQUENCE:1776635596
BEGIN:VEVENT
UID:jazz-concerts.com-1-43215
DTSTAMP:20260419T235316
DTSTART:20261010T203000
DTEND:20261010T223000
SUMMARY:Der Jazzclub wird 60!
LOCATION:Jazzclub Kelkheim e.V. Rotlintallee 2\, 65779 Kelkheim (Taunus)\, Germany
DESCRIPTION:tickets: https://jazz-concerts.com/en/event/43215\n\nDer Jazzclub wird 60!\n\n
END:VEVENT
END:VCALENDAR
