BEGIN:VCALENDAR
VERSION:2.0
PRODID:jazz-concerts.com
METHOD:PUBLISH
SEQUENCE:1776667946
BEGIN:VEVENT
UID:jazz-concerts.com-1-43250
DTSTAMP:20260420T085226
DTSTART:20260426T163000
DTEND:20260426T183000
SUMMARY:Steve Masakowsi & Lawrence Sieberth
LOCATION:Snug Harbor Jazz Bistro Frenchmen Street 626\, 70116 New Orleans\, United States
DESCRIPTION:tickets: https://jazz-concerts.com/en/event/43250\n\nSteve Masakowsi & Lawrence Sieberth\n\n
END:VEVENT
END:VCALENDAR
