BEGIN:VCALENDAR
VERSION:2.0
PRODID:jazz-concerts.com
METHOD:PUBLISH
SEQUENCE:1776667152
BEGIN:VEVENT
UID:jazz-concerts.com-1-43262
DTSTAMP:20260420T083912
DTSTART:20260501T220000
DTEND:20260502T000000
SUMMARY:Jason Marsalis' Tribute to Ellis Marsalis wsg Jon Cowherd & Victor Goines
LOCATION:Snug Harbor Jazz Bistro Frenchmen Street 626\, 70116 New Orleans\, United States
DESCRIPTION:tickets: https://jazz-concerts.com/en/event/43262\n\nJason Marsalis' Tribute to Ellis Marsalis wsg Jon Cowherd & Victor Goines\n\n
END:VEVENT
END:VCALENDAR
